Workbook

Sheet Inputs
B1: UCC3301x(-Q1) DESIGN CALCULATOR TOOL (Ver. 0)
B2: Disclaimer
B3: This product is designed as an aid for customers of Texas Instruments. No warranties, either expressed or implied, with respect to this software or its fitness for any particular purpose, are claimed by Texas Instruments or the author. The software is licensed solely on an "as is" basis. The entire risk as to its quality and performance is with the customer.
B7: UCC3301x(-Q1) 1.0-W, 5.0-V VIN, High-Efficiency, Isolated DC/DC Module
B8: CLEAR ALL USER INPUT CELLS BEFORE STARTING A NEW DESIGN
B9: ALL GREEN CELLS ARE USER INPUTS; CELLS INTO RED MEANS ERROR ON USER INPUTS
B10: WHERE APPLICABLE, A RECOMMENDED VALUE IS GIVEN THAT WILL BE THE BEST CHOICE TO MEET THE GIVEN SPECIFICATION. IT IS IN THE BEST INTEREST OF THE USER TO USE A VALUE AS CLOSE AS POSSIBLE TO THE RECOMMENDED VALUE. FOR ACCURATE RESULTS, THE USER MUST ENTER THE ACTUAL VALUE USED IN THE APPROPRIATE CELL.
B11: DESIGN REQUIREMENTS
B13: VINP | C13: 5 | D13: V
B14: VCC | C14: 3.3 | D14: V
B15: Cout @ 0V Bias | C15: 11 | D15: μF | E15: Provide the nominal total capacitance value at 0V DC Bias
B16: Cout @ 5V Bias | C16: 11 | D16: μF | E16: Provide the derated total capacitance value at 5V DC Bias
B17: Cout ESR @ 250 KHz | C17: 3 | D17: mΩ
B18: Load Type | C18: Resistive Load
B19: =C18 -> Resistive Load | C19: 16 | D19: =IF(B19="Resistive Load","ohm", IF(B19="Constant Current Load","mA")) -> ohm | E19: =IF(C18="Resistive Load","Recommended Resistive Load > 11 Ohm",IF(C18="Constant Current Load"," Recommended Current Load < 300mA")) -> Recommended Resistive Load > 11 Ohm
B20: VCC threshold for Load | C20: 0 | D20: V | E20: Provide the VCC threshold at which the specified load will be applied
B21: Soft-Start Rise Time | C21: =IF(Sheet2!Y2<16000, Sheet2!Y2, "Failed Startup") -> 525 | D21: =IF(C21=Sheet1!A21, "", "μS") -> μS | E21: =IF(C21=Sheet1!A21, "Reduce the Cout or The added load condition", "")
B22: Maximum Steady State Load | C22: 300 | D22: mA
B23: Maxium Burst-On Duration (Tonmax) | C23: =IF(AND(Tonmax!O2<13, Tonmax!O2>0), Tonmax!O2, "Ton-max Over power protection triggered") -> 2.2916835 | D23: =IF(C23=Sheet1!A23, "", "μS") -> μS | E23: =IF(C23=Sheet1!A23, "Reduce the Cout for Ton-max < 13μS", "")

Sheet Sheet1
A13: 3 | B13: 3.1 | C13: 3.3 | D13: 3.6 | E13: 4.5 | F13: 4.75 | G13: 5 | H13: 5.5
D14: 3.3 | E14: 3.7
A18: Resistive Load | B18: Constant Current Load
A21: Failed Startup | B21: =IF(Inputs!C21=Sheet1!A21, "Reduce the Cout or The added load condition", "")
A23: Ton-max Over power protection triggered | B23: =IF(Inputs!C23=Sheet1!A23, "Reduce the Cout for Ton-max < 13μS", "")

Sheet Sheet2
E1: TD | F1: Cout / uF | G1: Vin | I1: Vout | K1: Cout_0V | L1: Cout_5.0V | M1: Rload | N1: Iload | O1: Load Threshold | P1: Load type | Q1: Efficiecny
E2: 25 | F2: 22 | G2: =Inputs!C13 -> 5 | I2: =Inputs!C14 -> 3.3 | K2: =Inputs!$C$15 -> 11 | L2: =Inputs!$C$16 -> 11 | M2: =IF(Inputs!C18="Resistive Load", Inputs!C19, 10000000000) -> 16 | N2: =IF(Inputs!C18="Constant Current Load", Inputs!C19, 0) -> 0 | O2: =Inputs!C20 -> 0 | P2: =Inputs!C18 -> Resistive Load | Q2: 0.52 | W2: =MAX(W4:W19) -> 0 | Y2: =MAX(Y4:Y643) -> 525 | Z2: =MAX(Z4:Z643) -> 3.3
D3: Duty Limit | E3: Duty (%) | F3: Td / us | G3: time / us | H3: Index | I3: Iout / mA | J3: Iload(CR) / mA | K3: Iload(CC) / mA | L3: Load Applied | M3: Iload / mA | N3: Icout | O3: Q / uC | P3: Qt / uC | Q3: Vout(V) | R3: Cout | S3: Vout_plot(V) | T3: Iin (mA) | U3: Trise | V3: Steady State | W3: Soft-Start Duration | Y3: Rise Time | Z3: Vout | AA3: Iin | AB3: Iout
A4: DC0 | B4: 6.5 | C4: 6.5 | D4: 0 | E4: =C4 -> 6.5 | F4: =$E$2 -> 25 | G4: =F4 -> 25 | H4: =MOD(G$4:G$643, 4) -> 1 | I4: =(-0.0457*0+0.64+(($G$2-5)*0.148))*E4*10 -> 41.6 | J4: 0 | K4: 0 | L4: 0 | M4: =(J4+K4)*L4 -> 0 | N4: =I4-M4 -> 41.6 | O4: =N4*F4/1000 -> 1.04 | P4: =O4 -> 1.04 | Q4: =P4/R4 -> 0.094545455 | R4: =$K$2 -> 11 | S4: =IF(Q4>$I$2, $I$2, Q4) -> 0.094545455 | T4: =I4*$I$2/($Q$2*$G$2) -> 52.8 | U4: =IF(S4=$I$2, G4, 0)+LOOKUP(">0",U4:U27,S4:S27) -> 0 | V4: =IF(S4=$I$2, 0, 1) -> 1 | W4: =IF(OR(U4>0, V4>0), 1, 0) -> 1 | Y4: =E2 -> 25 | Z4: =S4 -> 0.094545455 | AA4: =T4 -> 52.8 | AB4: =M4 -> 0
A5: DC1 | B5: 6.5 | C5: =IF(H4>0, C4, IF(D4>0, IF(C4=100, 100, IF(C4 = 6.5, C4+6,C4+12.5)), B5)) -> 6.5 | D5: =IF(Q4<2.7, 0,1) -> 0 | E5: =IF(Q4<2.7, $B5,$C5)*V4 -> 6.5 | F5: =$E$2 -> 25 | G5: =G4+F5 -> 50 | H5: =MOD(G$4:G$643, 4) -> 2 | I5: =(-0.0457*Q4+0.64+(($G$2-5)*0.148))*E5*10 -> 41.319153 | J5: =IF($P$2="Resistive Load",Q4*1000/$M$2,0) -> 5.9090909 | K5: =IF($P$2="Constant Current Load",$N$2,0) -> 0 | L5: =IF(Q4>$O$2, 1, 0) -> 1 | M5: =(J5+K5)*L5 -> 5.9090909 | N5: =I5-M5 -> 35.410062 | O5: =N5*F5/1000 -> 0.88525155 | P5: =O5+P4 -> 1.9252515 | Q5: =P5/R5*V4 -> 0.17502287 | R5: =$K$2+Q4*(($K$2-$L$2)/(-5)) -> 11 | S5: =IF(Q5>$I$2, $I$2, Q5) -> 0.17502287 | T5: =I5*$I$2/($Q$2*$G$2) -> 52.44354 | U5: =IF(S5=$I$2, G5, 0) -> 0 | V5: =IF(V4=0, 0, IF(S5=$I$2, 0, 1)) -> 1 | W5: =IF(OR(U5>0, V5>0), 1, 0) -> 1 | Y5: =IF(W5=1, (W5*G5), Y4) -> 50 | Z5: =IF(W5=1, (W5*S5), Z4) -> 0.17502287 | AA5: =IF(W5=1, (W5*T5), AA4) -> 52.44354 | AB5: =IF(W5=1, (W5*M5), AB4) -> 5.9090909
A6: DC2 | B6: 6.5 | C6: =IF(H5>0, C5, IF(D5>0, IF(C5=100, 100, IF(C5 = 6.5, C5+6,C5+12.5)), B6)) -> 6.5 | D6: =IF(Q5<2.7, 0,1) -> 0 | E6: =IF(Q5<2.7, $B6,$C6)*V5 -> 6.5 | F6: =$E$2 -> 25 | G6: =G5+F6 -> 75 | H6: =MOD(G$4:G$643, 4) -> 3 | I6: =(-0.0457*Q5+0.64+(($G$2-5)*0.148))*E6*10 -> 41.080095 | J6: =IF($P$2="Resistive Load",Q5*1000/$M$2,0) -> 10.938929 | K6: =IF($P$2="Constant Current Load",$N$2,0) -> 0 | L6: =IF(Q5>$O$2, 1, 0) -> 1 | M6: =(J6+K6)*L6 -> 10.938929 | N6: =I6-M6 -> 30.141165 | O6: =N6*F6/1000 -> 0.75352913 | P6: =O6+P5 -> 2.6787807 | Q6: =P6/R6*V5 -> 0.24352552 | R6: =$K$2+Q5*(($K$2-$L$2)/(-5)) -> 11 | S6: =IF(Q6>$I$2, $I$2, Q6) -> 0.24352552 | T6: =I6*$I$2/($Q$2*$G$2) -> 52.14012 | U6: =IF(S6=$I$2, G6, 0) -> 0 | V6: =IF(V5=0, 0, IF(S6=$I$2, 0, 1)) -> 1 | W6: =IF(OR(U6>0, V6>0), 1, 0) -> 1 | Y6: =IF(W6=1, (W6*G6), Y5) -> 75 | Z6: =IF(W6=1, (W6*S6), Z5) -> 0.24352552 | AA6: =IF(W6=1, (W6*T6), AA5) -> 52.14012 | AB6: =IF(W6=1, (W6*M6), AB5) -> 10.938929
A7: DC3 | B7: 6.5 | C7: =IF(H6>0, C6, IF(D6>0, IF(C6=100, 100, IF(C6 = 6.5, C6+6,C6+12.5)), B7)) -> 6.5 | D7: =IF(Q6<2.7, 0,1) -> 0 | E7: =IF(Q6<2.7, $B7,$C7)*V6 -> 6.5 | F7: =$E$2 -> 25 | G7: =G6+F7 -> 100 | H7: =MOD(G$4:G$643, 4) -> 0 | I7: =(-0.0457*Q6+0.64+(($G$2-5)*0.148))*E7*10 -> 40.876607 | J7: =IF($P$2="Resistive Load",Q6*1000/$M$2,0) -> 15.220345 | K7: =IF($P$2="Constant Current Load",$N$2,0) -> 0 | L7: =IF(Q6>$O$2, 1, 0) -> 1 | M7: =(J7+K7)*L7 -> 15.220345 | N7: =I7-M7 -> 25.656263 | O7: =N7*F7/1000 -> 0.64140657 | P7: =O7+P6 -> 3.3201872 | Q7: =P7/R7*V6 -> 0.3018352 | R7: =$K$2+Q6*(($K$2-$L$2)/(-5)) -> 11 | S7: =IF(Q7>$I$2, $I$2, Q7) -> 0.3018352 | T7: =I7*$I$2/($Q$2*$G$2) -> 51.881848 | U7: =IF(S7=$I$2, G7, 0) -> 0 | V7: =IF(V6=0, 0, IF(S7=$I$2, 0, 1)) -> 1 | W7: =IF(OR(U7>0, V7>0), 1, 0) -> 1 | Y7: =IF(W7=1, (W7*G7), Y6) -> 100 | Z7: =IF(W7=1, (W7*S7), Z6) -> 0.3018352 | AA7: =IF(W7=1, (W7*T7), AA6) -> 51.881848 | AB7: =IF(W7=1, (W7*M7), AB6) -> 15.220345
A8: DC4 | B8: 12.5 | C8: =IF(H7>0, C7, IF(D7>0, IF(C7=100, 100, IF(C7 = 6.5, C7+6,C7+12.5)), B8)) -> 12.5 | D8: =IF(Q7<2.7, 0,1) -> 0 | E8: =IF(Q7<2.7, $B8,$C8)*V7 -> 12.5 | F8: =$E$2 -> 25 | G8: =G7+F8 -> 125 | H8: =MOD(G$4:G$643, 4) -> 1 | I8: =(-0.0457*Q7+0.64+(($G$2-5)*0.148))*E8*10 -> 78.275766 | J8: =IF($P$2="Resistive Load",Q7*1000/$M$2,0) -> 18.8647 | K8: =IF($P$2="Constant Current Load",$N$2,0) -> 0 | L8: =IF(Q7>$O$2, 1, 0) -> 1 | M8: =(J8+K8)*L8 -> 18.8647 | N8: =I8-M8 -> 59.411066 | O8: =N8*F8/1000 -> 1.4852767 | P8: =O8+P7 -> 4.8054639 | Q8: =P8/R8*V7 -> 0.43686035 | R8: =$K$2+Q7*(($K$2-$L$2)/(-5)) -> 11 | S8: =IF(Q8>$I$2, $I$2, Q8) -> 0.43686035 | T8: =I8*$I$2/($Q$2*$G$2) -> 99.350011 | U8: =IF(S8=$I$2, G8, 0) -> 0 | V8: =IF(V7=0, 0, IF(S8=$I$2, 0, 1)) -> 1 | W8: =IF(OR(U8>0, V8>0), 1, 0) -> 1 | Y8: =IF(W8=1, (W8*G8), Y7) -> 125 | Z8: =IF(W8=1, (W8*S8), Z7) -> 0.43686035 | AA8: =IF(W8=1, (W8*T8), AA7) -> 99.350011 | AB8: =IF(W8=1, (W8*M8), AB7) -> 18.8647
A9: DC5 | B9: 12.5 | C9: =IF(H8>0, C8, IF(D8>0, IF(C8=100, 100, IF(C8 = 6.5, C8+6,C8+12.5)), B9)) -> 12.5 | D9: =IF(Q8<2.7, 0,1) -> 0 | E9: =IF(Q8<2.7, $B9,$C9)*V8 -> 12.5 | F9: =$E$2 -> 25 | G9: =G8+F9 -> 150 | H9: =MOD(G$4:G$643, 4) -> 2 | I9: =(-0.0457*Q8+0.64+(($G$2-5)*0.148))*E9*10 -> 77.504435 | J9: =IF($P$2="Resistive Load",Q8*1000/$M$2,0) -> 27.303772 | K9: =IF($P$2="Constant Current Load",$N$2,0) -> 0 | L9: =IF(Q8>$O$2, 1, 0) -> 1 | M9: =(J9+K9)*L9 -> 27.303772 | N9: =I9-M9 -> 50.200663 | O9: =N9*F9/1000 -> 1.2550166 | P9: =O9+P8 -> 6.0604805 | Q9: =P9/R9*V8 -> 0.55095277 | R9: =$K$2+Q8*(($K$2-$L$2)/(-5)) -> 11 | S9: =IF(Q9>$I$2, $I$2, Q9) -> 0.55095277 | T9: =I9*$I$2/($Q$2*$G$2) -> 98.371014 | U9: =IF(S9=$I$2, G9, 0) -> 0 | V9: =IF(V8=0, 0, IF(S9=$I$2, 0, 1)) -> 1 | W9: =IF(OR(U9>0, V9>0), 1, 0) -> 1 | Y9: =IF(W9=1, (W9*G9), Y8) -> 150 | Z9: =IF(W9=1, (W9*S9), Z8) -> 0.55095277 | AA9: =IF(W9=1, (W9*T9), AA8) -> 98.371014 | AB9: =IF(W9=1, (W9*M9), AB8) -> 27.303772
A10: DC6 | B10: 12.5 | C10: =IF(H9>0, C9, IF(D9>0, IF(C9=100, 100, IF(C9 = 6.5, C9+6,C9+12.5)), B10)) -> 12.5 | D10: =IF(Q9<2.7, 0,1) -> 0 | E10: =IF(Q9<2.7, $B10,$C10)*V9 -> 12.5 | F10: =$E$2 -> 25 | G10: =G9+F10 -> 175 | H10: =MOD(G$4:G$643, 4) -> 3 | I10: =(-0.0457*Q9+0.64+(($G$2-5)*0.148))*E10*10 -> 76.852682 | J10: =IF($P$2="Resistive Load",Q9*1000/$M$2,0) -> 34.434548 | K10: =IF($P$2="Constant Current Load",$N$2,0) -> 0 | L10: =IF(Q9>$O$2, 1, 0) -> 1 | M10: =(J10+K10)*L10 -> 34.434548 | N10: =I10-M10 -> 42.418134 | O10: =N10*F10/1000 -> 1.0604534 | P10: =O10+P9 -> 7.1209338 | Q10: =P10/R10*V9 -> 0.64735762 | R10: =$K$2+Q9*(($K$2-$L$2)/(-5)) -> 11 | S10: =IF(Q10>$I$2, $I$2, Q10) -> 0.64735762 | T10: =I10*$I$2/($Q$2*$G$2) -> 97.543789 | U10: =IF(S10=$I$2, G10, 0) -> 0 | V10: =IF(V9=0, 0, IF(S10=$I$2, 0, 1)) -> 1 | W10: =IF(OR(U10>0, V10>0), 1, 0) -> 1 | Y10: =IF(W10=1, (W10*G10), Y9) -> 175 | Z10: =IF(W10=1, (W10*S10), Z9) -> 0.64735762 | AA10: =IF(W10=1, (W10*T10), AA9) -> 97.543789 | AB10: =IF(W10=1, (W10*M10), AB9) -> 34.434548
A11: DC7 | B11: 12.5 | C11: =IF(H10>0, C10, IF(D10>0, IF(C10=100, 100, IF(C10 = 6.5, C10+6,C10+12.5)), B11)) -> 12.5 | D11: =IF(Q10<2.7, 0,1) -> 0 | E11: =IF(Q10<2.7, $B11,$C11)*V10 -> 12.5 | F11: =$E$2 -> 25 | G11: =G10+F11 -> 200 | H11: =MOD(G$4:G$643, 4) -> 0 | I11: =(-0.0457*Q10+0.64+(($G$2-5)*0.148))*E11*10 -> 76.30197 | J11: =IF($P$2="Resistive Load",Q10*1000/$M$2,0) -> 40.459851 | K11: =IF($P$2="Constant Current Load",$N$2,0) -> 0 | L11: =IF(Q10>$O$2, 1, 0) -> 1 | M11: =(J11+K11)*L11 -> 40.459851 | N11: =I11-M11 -> 35.842118 | O11: =N11*F11/1000 -> 0.89605296 | P11: =O11+P10 -> 8.0169868 | Q11: =P11/R11*V10 -> 0.72881698 | R11: =$K$2+Q10*(($K$2-$L$2)/(-5)) -> 11 | S11: =IF(Q11>$I$2, $I$2, Q11) -> 0.72881698 | T11: =I11*$I$2/($Q$2*$G$2) -> 96.844808 | U11: =IF(S11=$I$2, G11, 0) -> 0 | V11: =IF(V10=0, 0, IF(S11=$I$2, 0, 1)) -> 1 | W11: =IF(OR(U11>0, V11>0), 1, 0) -> 1 | Y11: =IF(W11=1, (W11*G11), Y10) -> 200 | Z11: =IF(W11=1, (W11*S11), Z10) -> 0.72881698 | AA11: =IF(W11=1, (W11*T11), AA10) -> 96.844808 | AB11: =IF(W11=1, (W11*M11), AB10) -> 40.459851
A12: DC8 | B12: 25 | C12: =IF(H11>0, C11, IF(D11>0, IF(C11=100, 100, IF(C11 = 6.5, C11+6,C11+12.5)), B12)) -> 25 | D12: =IF(Q11<2.7, 0,1) -> 0 | E12: =IF(Q11<2.7, $B12,$C12)*V11 -> 25 | F12: =$E$2 -> 25 | G12: =G11+F12 -> 225 | H12: =MOD(G$4:G$643, 4) -> 1 | I12: =(-0.0457*Q11+0.64+(($G$2-5)*0.148))*E12*10 -> 151.67327 | J12: =IF($P$2="Resistive Load",Q11*1000/$M$2,0) -> 45.551061 | K12: =IF($P$2="Constant Current Load",$N$2,0) -> 0 | L12: =IF(Q11>$O$2, 1, 0) -> 1 | M12: =(J12+K12)*L12 -> 45.551061 | N12: =I12-M12 -> 106.1222 | O12: =N12*F12/1000 -> 2.6530551 | P12: =O12+P11 -> 10.670042 | Q12: =P12/R12*V11 -> 0.97000381 | R12: =$K$2+Q11*(($K$2-$L$2)/(-5)) -> 11 | S12: =IF(Q12>$I$2, $I$2, Q12) -> 0.97000381 | T12: =I12*$I$2/($Q$2*$G$2) -> 192.50838 | U12: =IF(S12=$I$2, G12, 0) -> 0 | V12: =IF(V11=0, 0, IF(S12=$I$2, 0, 1)) -> 1 | W12: =IF(OR(U12>0, V12>0), 1, 0) -> 1 | Y12: =IF(W12=1, (W12*G12), Y11) -> 225 | Z12: =IF(W12=1, (W12*S12), Z11) -> 0.97000381 | AA12: =IF(W12=1, (W12*T12), AA11) -> 192.50838 | AB12: =IF(W12=1, (W12*M12), AB11) -> 45.551061
A13: DC9 | B13: 25 | C13: =IF(H12>0, C12, IF(D12>0, IF(C12=100, 100, IF(C12 = 6.5, C12+6,C12+12.5)), B13)) -> 25 | D13: =IF(Q12<2.7, 0,1) -> 0 | E13: =IF(Q12<2.7, $B13,$C13)*V12 -> 25 | F13: =$E$2 -> 25 | G13: =G12+F13 -> 250 | H13: =MOD(G$4:G$643, 4) -> 2 | I13: =(-0.0457*Q12+0.64+(($G$2-5)*0.148))*E13*10 -> 148.91771 | J13: =IF($P$2="Resistive Load",Q12*1000/$M$2,0) -> 60.625238 | K13: =IF($P$2="Constant Current Load",$N$2,0) -> 0 | L13: =IF(Q12>$O$2, 1, 0) -> 1 | M13: =(J13+K13)*L13 -> 60.625238 | N13: =I13-M13 -> 88.292468 | O13: =N13*F13/1000 -> 2.2073117 | P13: =O13+P12 -> 12.877354 | Q13: =P13/R13*V12 -> 1.1706685 | R13: =$K$2+Q12*(($K$2-$L$2)/(-5)) -> 11 | S13: =IF(Q13>$I$2, $I$2, Q13) -> 1.1706685 | T13: =I13*$I$2/($Q$2*$G$2) -> 189.01094 | U13: =IF(S13=$I$2, G13, 0) -> 0 | V13: =IF(V12=0, 0, IF(S13=$I$2, 0, 1)) -> 1 | W13: =IF(OR(U13>0, V13>0), 1, 0) -> 1 | Y13: =IF(W13=1, (W13*G13), Y12) -> 250 | Z13: =IF(W13=1, (W13*S13), Z12) -> 1.1706685 | AA13: =IF(W13=1, (W13*T13), AA12) -> 189.01094 | AB13: =IF(W13=1, (W13*M13), AB12) -> 60.625238
A14: DC10 | B14: 25 | C14: =IF(H13>0, C13, IF(D13>0, IF(C13=100, 100, IF(C13 = 6.5, C13+6,C13+12.5)), B14)) -> 25 | D14: =IF(Q13<2.7, 0,1) -> 0 | E14: =IF(Q13<2.7, $B14,$C14)*V13 -> 25 | F14: =$E$2 -> 25 | G14: =G13+F14 -> 275 | H14: =MOD(G$4:G$643, 4) -> 3 | I14: =(-0.0457*Q13+0.64+(($G$2-5)*0.148))*E14*10 -> 146.62511 | J14: =IF($P$2="Resistive Load",Q13*1000/$M$2,0) -> 73.166782 | K14: =IF($P$2="Constant Current Load",$N$2,0) -> 0 | L14: =IF(Q13>$O$2, 1, 0) -> 1 | M14: =(J14+K14)*L14 -> 73.166782 | N14: =I14-M14 -> 73.45833 | O14: =N14*F14/1000 -> 1.8364583 | P14: =O14+P13 -> 14.713812 | Q14: =P14/R14*V13 -> 1.3376193 | R14: =$K$2+Q13*(($K$2-$L$2)/(-5)) -> 11 | S14: =IF(Q14>$I$2, $I$2, Q14) -> 1.3376193 | T14: =I14*$I$2/($Q$2*$G$2) -> 186.1011 | U14: =IF(S14=$I$2, G14, 0) -> 0 | V14: =IF(V13=0, 0, IF(S14=$I$2, 0, 1)) -> 1 | W14: =IF(OR(U14>0, V14>0), 1, 0) -> 1 | Y14: =IF(W14=1, (W14*G14), Y13) -> 275 | Z14: =IF(W14=1, (W14*S14), Z13) -> 1.3376193 | AA14: =IF(W14=1, (W14*T14), AA13) -> 186.1011 | AB14: =IF(W14=1, (W14*M14), AB13) -> 73.166782
A15: DC11 | B15: 25 | C15: =IF(H14>0, C14, IF(D14>0, IF(C14=100, 100, IF(C14 = 6.5, C14+6,C14+12.5)), B15)) -> 25 | D15: =IF(Q14<2.7, 0,1) -> 0 | E15: =IF(Q14<2.7, $B15,$C15)*V14 -> 25 | F15: =$E$2 -> 25 | G15: =G14+F15 -> 300 | H15: =MOD(G$4:G$643, 4) -> 0 | I15: =(-0.0457*Q14+0.64+(($G$2-5)*0.148))*E15*10 -> 144.7177 | J15: =IF($P$2="Resistive Load",Q14*1000/$M$2,0) -> 83.601204 | K15: =IF($P$2="Constant Current Load",$N$2,0) -> 0 | L15: =IF(Q14>$O$2, 1, 0) -> 1 | M15: =(J15+K15)*L15 -> 83.601204 | N15: =I15-M15 -> 61.116496 | O15: =N15*F15/1000 -> 1.5279124 | P15: =O15+P14 -> 16.241724 | Q15: =P15/R15*V14 -> 1.4765204 | R15: =$K$2+Q14*(($K$2-$L$2)/(-5)) -> 11 | S15: =IF(Q15>$I$2, $I$2, Q15) -> 1.4765204 | T15: =I15*$I$2/($Q$2*$G$2) -> 183.68016 | U15: =IF(S15=$I$2, G15, 0) -> 0 | V15: =IF(V14=0, 0, IF(S15=$I$2, 0, 1)) -> 1 | W15: =IF(OR(U15>0, V15>0), 1, 0) -> 1 | Y15: =IF(W15=1, (W15*G15), Y14) -> 300 | Z15: =IF(W15=1, (W15*S15), Z14) -> 1.4765204 | AA15: =IF(W15=1, (W15*T15), AA14) -> 183.68016 | AB15: =IF(W15=1, (W15*M15), AB14) -> 83.601204
A16: DC12 | B16: 37.5 | C16: =IF(H15>0, C15, IF(D15>0, IF(C15=100, 100, IF(C15 = 6.5, C15+6,C15+12.5)), B16)) -> 37.5 | D16: =IF(Q15<2.7, 0,1) -> 0 | E16: =IF(Q15<2.7, $B16,$C16)*V15 -> 37.5 | F16: =$E$2 -> 25 | G16: =G15+F16 -> 325 | H16: =MOD(G$4:G$643, 4) -> 1 | I16: =(-0.0457*Q15+0.64+(($G$2-5)*0.148))*E16*10 -> 214.69613 | J16: =IF($P$2="Resistive Load",Q15*1000/$M$2,0) -> 92.282524 | K16: =IF($P$2="Constant Current Load",$N$2,0) -> 0 | L16: =IF(Q15>$O$2, 1, 0) -> 1 | M16: =(J16+K16)*L16 -> 92.282524 | N16: =I16-M16 -> 122.41361 | O16: =N16*F16/1000 -> 3.0603402 | P16: =O16+P15 -> 19.302064 | Q16: =P16/R16*V15 -> 1.7547331 | R16: =$K$2+Q15*(($K$2-$L$2)/(-5)) -> 11 | S16: =IF(Q16>$I$2, $I$2, Q16) -> 1.7547331 | T16: =I16*$I$2/($Q$2*$G$2) -> 272.49894 | U16: =IF(S16=$I$2, G16, 0) -> 0 | V16: =IF(V15=0, 0, IF(S16=$I$2, 0, 1)) -> 1 | W16: =IF(OR(U16>0, V16>0), 1, 0) -> 1 | Y16: =IF(W16=1, (W16*G16), Y15) -> 325 | Z16: =IF(W16=1, (W16*S16), Z15) -> 1.7547331 | AA16: =IF(W16=1, (W16*T16), AA15) -> 272.49894 | AB16: =IF(W16=1, (W16*M16), AB15) -> 92.282524
... A643: DC639 | B643: 62.5 | C643: =IF(H642>0, C642, IF(D642>0, IF(C642=100, 100, IF(C642 = 6.5, C642+6,C642+12.5)), B643)) -> 62.5 | D643: =IF(Q642<2.7, 0,1) -> 0 | E643: =IF(Q642<2.7, $B643,$C643)*V642 -> 0 | F643: =$E$2 -> 25 | G643: =G642+F643 -> 16000 | H643: =MOD(G$4:G$643, 4) -> 0 | I643: =(-0.0457*Q642+0.64+(($G$2-5)*0.148))*E643*10 -> 0 | J643: =IF($P$2="Resistive Load",Q642*1000/$M$2,0) -> 0 | K643: =IF($P$2="Constant Current Load",$N$2,0) -> 0 | L643: =IF(Q642>$O$2, 1, 0) -> 0 | M643: =(J643+K643)*L643 -> 0 | N643: =I643-M643 -> 0 | O643: =N643*F643/1000 -> 0 | P643: =O643+P642 -> 32.13174 | Q643: =P643/R643*V642 -> 0 | R643: =$K$2+Q642*(($K$2-$L$2)/(-5)) -> 11 | S643: =IF(Q643>$I$2, $I$2, Q643) -> 0 | T643: =I643*$I$2/($Q$2*$G$2) -> 0 | U643: =IF(S643=$I$2, G643, 0) -> 0 | V643: =IF(V642=0, 0, IF(S643=$I$2, 0, 1)) -> 0 | W643: =IF(OR(U643>0, V643>0), 1, 0) -> 0 | Y643: =IF(W643=1, (W643*G643), Y642) -> 525 | Z643: =IF(W643=1, (W643*S643), Z642) -> 3.3 | AA643: =IF(W643=1, (W643*T643), AA642) -> 393.61054 | AB643: =IF(W643=1, (W643*M643), AB642) -> 196.67967

Sheet Tonmax
A1: VINP | B1: VCC | C1: Load | D1: Cout (μF) | E1: ESR (mohm) | F1: tdf (nSec) | G1: tdr (nSeC) | H1: Iburst | I1: Vhyst (mV) | J1: K | K1: Vhyst/K | L1: (Iburst - Io) * tdf + Io * tdr | M1: Ripple (mV) (Iburst) | N1: Iout + IQ_VCC (A) | O1: Ton (uSeC)
A2: =Inputs!C13 -> 5 | B2: =Inputs!C14 -> 3.3 | C2: =Inputs!C22 -> 300 | D2: =Inputs!C16 -> 11 | E2: =Inputs!C17 -> 3 | F2: =160+126 -> 286 | G2: =112+110 -> 222 | H2: =IF(B2=3.3,VLOOKUP(A2,$B$27:$D$34,3),IF(B2=3.7,VLOOKUP(A2,$B$35:$D$42,3))) -> 0.572 | I2: 10 | J2: =IF(B2 = 3.3, 0.2415, IF(B2=3.7, 0.2207)) -> 0.2415 | K2: =I2/(1000*J2) -> 0.041407867 | L2: =((H2-0.001*C2)*$F$2*10^-9)+(C2*0.001*$G$2*10^-9) -> 1.44392e-07 | M2: =(K2+(L2/($D$2*10^-6))+H2*$E$2*0.001)*1000 -> 56.250413 | N2: =(C2+2)*10^-3 -> 0.302 | O2: =10^6*($D$2*10^-6*M2*10^-3)/(H2-N2) -> 2.2916835
A4: ESR | B4: 3 | C4: mohm | D4: https://www.murata.com/en-us/products/productdetail?partno=GRM21BZ71A226ME15%23
A6: VINP | B6: VCC | C6: Maximum SOA load at 25C | G6: Iburst_SOA | H6: Vhyst | I6: K | J6: Vhyst/K | K6: (Iburst - Io) * tdf + Io * tdr | L6: Ripple (mV) (Iburst) | M6: Iout + IQ_VCC (A) | N6: Ton (uSeC) | O6: Toff (uSeC) | P6: Fburst (KHz) (Iburst_starfish)
A7: 3 | B7: 3.3 | C7: 260 | G7: =IF(B7=3.3,VLOOKUP(A7,$B$27:$D$34,3),IF(B7=3.7,VLOOKUP(A7,$B$35:$D$42,3))) -> 0.286 | H7: 10 | I7: =IF(B7 = 3.3, 0.2415, IF(B7=3.7, 0.2207)) -> 0.2415 | J7: =H7/(1000*I7) -> 0.041407867 | K7: =((G7-0.001*C7)*$F$2*10^-9)+(C7*0.001*$G$2*10^-9) -> 6.5156e-08 | L7: =(J7+(K7/($D$2*10^-6))+G7*$E$2*0.001)*1000 -> 48.18914 | M7: =(2+C7)/1000 -> 0.262 | N7: =10^6*($D$2*10^-6*L7*10^-3)/(G7-M7) -> 22.086689 | O7: =10^6*($D$2*10^-6*L7*10^-3)/(M7) -> 2.0232082 | P7: =10^3/(N7+O7) -> 41.476742
A8: 3.1 | B8: 3.3 | C8: 290 | G8: =IF(B8=3.3,VLOOKUP(A8,$B$27:$D$34,3),IF(B8=3.7,VLOOKUP(A8,$B$35:$D$42,3))) -> 0.319 | H8: 10 | I8: =IF(B8 = 3.3, 0.2415, IF(B8=3.7, 0.2207)) -> 0.2415 | J8: =H8/(1000*I8) -> 0.041407867 | K8: =((G8-0.001*C8)*$F$2*10^-9)+(C8*0.001*$G$2*10^-9) -> 7.2674e-08 | L8: =(J8+(K8/($D$2*10^-6))+G8*$E$2*0.001)*1000 -> 48.971595 | M8: =(2+C8)/1000 -> 0.292 | N8: =10^6*($D$2*10^-6*L8*10^-3)/(G8-M8) -> 19.95139 | O8: =10^6*($D$2*10^-6*L8*10^-3)/(M8) -> 1.8448204 | P8: =10^3/(N8+O8) -> 45.879534
A9: 3.3 | B9: 3.3 | C9: 310 | G9: =IF(B9=3.3,VLOOKUP(A9,$B$27:$D$34,3),IF(B9=3.7,VLOOKUP(A9,$B$35:$D$42,3))) -> 0.341 | H9: 10 | I9: =IF(B9 = 3.3, 0.2415, IF(B9=3.7, 0.2207)) -> 0.2415 | J9: =H9/(1000*I9) -> 0.041407867 | K9: =((G9-0.001*C9)*$F$2*10^-9)+(C9*0.001*$G$2*10^-9) -> 7.7686e-08 | L9: =(J9+(K9/($D$2*10^-6))+G9*$E$2*0.001)*1000 -> 49.493231 | M9: =(2+C9)/1000 -> 0.312 | N9: =10^6*($D$2*10^-6*L9*10^-3)/(G9-M9) -> 18.773295 | O9: =10^6*($D$2*10^-6*L9*10^-3)/(M9) -> 1.7449537 | P9: =10^3/(N9+O9) -> 48.737104
A10: 3.6 | B10: 3.3 | C10: 360 | G10: =IF(B10=3.3,VLOOKUP(A10,$B$27:$D$34,3),IF(B10=3.7,VLOOKUP(A10,$B$35:$D$42,3))) -> 0.396 | H10: 10 | I10: =IF(B10 = 3.3, 0.2415, IF(B10=3.7, 0.2207)) -> 0.2415 | J10: =H10/(1000*I10) -> 0.041407867 | K10: =((G10-0.001*C10)*$F$2*10^-9)+(C10*0.001*$G$2*10^-9) -> 9.0216e-08 | L10: =(J10+(K10/($D$2*10^-6))+G10*$E$2*0.001)*1000 -> 50.797322 | M10: =(2+C10)/1000 -> 0.362 | N10: =10^6*($D$2*10^-6*L10*10^-3)/(G10-M10) -> 16.434428 | O10: =10^6*($D$2*10^-6*L10*10^-3)/(M10) -> 1.543565 | P10: =10^3/(N10+O10) -> 55.623562
A11: 4.5 | B11: 3.3 | C11: 460 | G11: =IF(B11=3.3,VLOOKUP(A11,$B$27:$D$34,3),IF(B11=3.7,VLOOKUP(A11,$B$35:$D$42,3))) -> 0.506 | H11: 10 | I11: =IF(B11 = 3.3, 0.2415, IF(B11=3.7, 0.2207)) -> 0.2415 | J11: =H11/(1000*I11) -> 0.041407867 | K11: =((G11-0.001*C11)*$F$2*10^-9)+(C11*0.001*$G$2*10^-9) -> 1.15276e-07 | L11: =(J11+(K11/($D$2*10^-6))+G11*$E$2*0.001)*1000 -> 53.405504 | M11: =(2+C11)/1000 -> 0.462 | N11: =10^6*($D$2*10^-6*L11*10^-3)/(G11-M11) -> 13.351376 | O11: =10^6*($D$2*10^-6*L11*10^-3)/(M11) -> 1.2715596 | P11: =10^3/(N11+O11) -> 68.385721
A12: 4.75 | B12: 3.3 | C12: 480 | G12: =IF(B12=3.3,VLOOKUP(A12,$B$27:$D$34,3),IF(B12=3.7,VLOOKUP(A12,$B$35:$D$42,3))) -> 0.528 | H12: 10 | I12: =IF(B12 = 3.3, 0.2415, IF(B12=3.7, 0.2207)) -> 0.2415 | J12: =H12/(1000*I12) -> 0.041407867 | K12: =((G12-0.001*C12)*$F$2*10^-9)+(C12*0.001*$G$2*10^-9) -> 1.20288e-07 | L12: =(J12+(K12/($D$2*10^-6))+G12*$E$2*0.001)*1000 -> 53.92714 | M12: =(2+C12)/1000 -> 0.482 | N12: =10^6*($D$2*10^-6*L12*10^-3)/(G12-M12) -> 12.89562 | O12: =10^6*($D$2*10^-6*L12*10^-3)/(M12) -> 1.2307024 | P12: =10^3/(N12+O12) -> 70.78983
A13: 5 | B13: 3.3 | C13: 520 | G13: =IF(B13=3.3,VLOOKUP(A13,$B$27:$D$34,3),IF(B13=3.7,VLOOKUP(A13,$B$35:$D$42,3))) -> 0.572 | H13: 10 | I13: =IF(B13 = 3.3, 0.2415, IF(B13=3.7, 0.2207)) -> 0.2415 | J13: =H13/(1000*I13) -> 0.041407867 | K13: =((G13-0.001*C13)*$F$2*10^-9)+(C13*0.001*$G$2*10^-9) -> 1.30312e-07 | L13: =(J13+(K13/($D$2*10^-6))+G13*$E$2*0.001)*1000 -> 54.970413 | M13: =(2+C13)/1000 -> 0.522 | N13: =10^6*($D$2*10^-6*L13*10^-3)/(G13-M13) -> 12.093491 | O13: =10^6*($D$2*10^-6*L13*10^-3)/(M13) -> 1.1583803 | P13: =10^3/(N13+O13) -> 75.461041
A14: 5.5 | B14: 3.3 | C14: 580 | G14: =IF(B14=3.3,VLOOKUP(A14,$B$27:$D$34,3),IF(B14=3.7,VLOOKUP(A14,$B$35:$D$42,3))) -> 0.638 | H14: 10 | I14: =IF(B14 = 3.3, 0.2415, IF(B14=3.7, 0.2207)) -> 0.2415 | J14: =H14/(1000*I14) -> 0.041407867 | K14: =((G14-0.001*C14)*$F$2*10^-9)+(C14*0.001*$G$2*10^-9) -> 1.45348e-07 | L14: =(J14+(K14/($D$2*10^-6))+G14*$E$2*0.001)*1000 -> 56.535322 | M14: =(2+C14)/1000 -> 0.582 | N14: =10^6*($D$2*10^-6*L14*10^-3)/(G14-M14) -> 11.105153 | O14: =10^6*($D$2*10^-6*L14*10^-3)/(M14) -> 1.068537 | P14: =10^3/(N14+O14) -> 82.144365
A15: 3 | B15: 3.7 | C15: 240 | G15: =IF(B15=3.3,VLOOKUP(A15,$B$27:$D$34,3),IF(B15=3.7,VLOOKUP(A15,$B$35:$D$42,3))) -> 0.288 | H15: 10 | I15: =IF(B15 = 3.3, 0.2415, IF(B15=3.7, 0.2207)) -> 0.2207 | J15: =H15/(1000*I15) -> 0.045310376 | K15: =((G15-0.001*C15)*$F$2*10^-9)+(C15*0.001*$G$2*10^-9) -> 6.7008e-08 | L15: =(J15+(K15/($D$2*10^-6))+G15*$E$2*0.001)*1000 -> 52.266012 | M15: =(2+C15)/1000 -> 0.242 | N15: =10^6*($D$2*10^-6*L15*10^-3)/(G15-M15) -> 12.498394 | O15: =10^6*($D$2*10^-6*L15*10^-3)/(M15) -> 2.3757278 | P15: =10^3/(N15+O15) -> 67.230859
A16: 3.1 | B16: 3.7 | C16: 260 | G16: =IF(B16=3.3,VLOOKUP(A16,$B$27:$D$34,3),IF(B16=3.7,VLOOKUP(A16,$B$35:$D$42,3))) -> 0.312 | H16: 10 | I16: =IF(B16 = 3.3, 0.2415, IF(B16=3.7, 0.2207)) -> 0.2207 | J16: =H16/(1000*I16) -> 0.045310376 | K16: =((G16-0.001*C16)*$F$2*10^-9)+(C16*0.001*$G$2*10^-9) -> 7.2592e-08 | L16: =(J16+(K16/($D$2*10^-6))+G16*$E$2*0.001)*1000 -> 52.845649 | M16: =(2+C16)/1000 -> 0.262 | N16: =10^6*($D$2*10^-6*L16*10^-3)/(G16-M16) -> 11.626043 | O16: =10^6*($D$2*10^-6*L16*10^-3)/(M16) -> 2.2187104 | P16: =10^3/(N16+O16) -> 72.229529
A17: 3.3 | B17: 3.7 | C17: 290 | G17: =IF(B17=3.3,VLOOKUP(A17,$B$27:$D$34,3),IF(B17=3.7,VLOOKUP(A17,$B$35:$D$42,3))) -> 0.319 | H17: 10 | I17: =IF(B17 = 3.3, 0.2415, IF(B17=3.7, 0.2207)) -> 0.2207 | J17: =H17/(1000*I17) -> 0.045310376 | K17: =((G17-0.001*C17)*$F$2*10^-9)+(C17*0.001*$G$2*10^-9) -> 7.2674e-08 | L17: =(J17+(K17/($D$2*10^-6))+G17*$E$2*0.001)*1000 -> 52.874103 | M17: =(2+C17)/1000 -> 0.292 | N17: =10^6*($D$2*10^-6*L17*10^-3)/(G17-M17) -> 21.541301 | O17: =10^6*($D$2*10^-6*L17*10^-3)/(M17) -> 1.9918327 | P17: =10^3/(N17+O17) -> 42.493278
A18: 3.6 | B18: 3.7 | C18: 310 | G18: =IF(B18=3.3,VLOOKUP(A18,$B$27:$D$34,3),IF(B18=3.7,VLOOKUP(A18,$B$35:$D$42,3))) -> 0.341 | H18: 10 | I18: =IF(B18 = 3.3, 0.2415, IF(B18=3.7, 0.2207)) -> 0.2207 | J18: =H18/(1000*I18) -> 0.045310376 | K18: =((G18-0.001*C18)*$F$2*10^-9)+(C18*0.001*$G$2*10^-9) -> 7.7686e-08 | L18: =(J18+(K18/($D$2*10^-6))+G18*$E$2*0.001)*1000 -> 53.39574 | M18: =(2+C18)/1000 -> 0.312 | N18: =10^6*($D$2*10^-6*L18*10^-3)/(G18-M18) -> 20.253556 | O18: =10^6*($D$2*10^-6*L18*10^-3)/(M18) -> 1.8825421 | P18: =10^3/(N18+O18) -> 45.175079
... A22: 5.5 | B22: 3.7 | C22: 550 | G22: =IF(B22=3.3,VLOOKUP(A22,$B$27:$D$34,3),IF(B22=3.7,VLOOKUP(A22,$B$35:$D$42,3))) -> 0.605 | H22: 10 | I22: =IF(B22 = 3.3, 0.2415, IF(B22=3.7, 0.2207)) -> 0.2207 | J22: =H22/(1000*I22) -> 0.045310376 | K22: =((G22-0.001*C22)*$F$2*10^-9)+(C22*0.001*$G$2*10^-9) -> 1.3783e-07 | L22: =(J22+(K22/($D$2*10^-6))+G22*$E$2*0.001)*1000 -> 59.655376 | M22: =(2+C22)/1000 -> 0.552 | N22: =10^6*($D$2*10^-6*L22*10^-3)/(G22-M22) -> 12.381304 | O22: =10^6*($D$2*10^-6*L22*10^-3)/(M22) -> 1.1887847 | P22: =10^3/(N22+O22) -> 73.691484
A26: VCC | B26: VIN | C26: Pout-SOA | D26: Min (Iout-SOA @ 25C) + 10% margin
A27: 3.3 | B27: 3 | C27: =D27*A27 -> 0.9438 | D27: =C7/1000*1.1 -> 0.286
A28: 3.3 | B28: 3.1 | C28: =D28*A28 -> 1.0527 | D28: =C8/1000*1.1 -> 0.319
A29: 3.3 | B29: 3.3 | C29: =D29*A29 -> 1.1253 | D29: =C9/1000*1.1 -> 0.341
A30: 3.3 | B30: 3.6 | C30: =D30*A30 -> 1.3068 | D30: =C10/1000*1.1 -> 0.396
A31: 3.3 | B31: 4.5 | C31: =D31*A31 -> 1.6698 | D31: =C11/1000*1.1 -> 0.506 | K31: VHYS is peak to peak
A32: 3.3 | B32: 4.75 | C32: =D32*A32 -> 1.7424 | D32: =C12/1000*1.1 -> 0.528
A33: 3.3 | B33: 5 | C33: =D33*A33 -> 1.8876 | D33: =C13/1000*1.1 -> 0.572
A34: 3.3 | B34: 5.5 | C34: =D34*A34 -> 2.1054 | D34: =C14/1000*1.1 -> 0.638
A35: 3.7 | B35: 3 | C35: =D35*A35 -> 1.0656 | D35: =C15/1000*1.2 -> 0.288
A36: 3.7 | B36: 3.1 | C36: =D36*A36 -> 1.1544 | D36: =C16/1000*1.2 -> 0.312
A37: 3.7 | B37: 3.3 | C37: =D37*A37 -> 1.1803 | D37: =C17/1000*1.1 -> 0.319
A38: 3.7 | B38: 3.6 | C38: =D38*A38 -> 1.2617 | D38: =C18/1000*1.1 -> 0.341
A39: 3.7 | B39: 4.5 | C39: =D39*A39 -> 1.8315 | D39: =C19/1000*1.1 -> 0.495
A40: 3.7 | B40: 4.75 | C40: 1.6511 | D40: =C20/1000*1.1 -> 0.517
A41: 3.7 | B41: 5 | C41: 2.0425 | D41: =C21/1000*1.1 -> 0.55
A42: 3.7 | B42: 5.5 | C42: 2.65905 | D42: =C22/1000*1.1 -> 0.605
